BEGIN:VCALENDAR
VERSION:2.0
CALSCALE:GREGORIAN
METHOD:PUBLISH
PRODID:-//SeuSite//PT-BR
BEGIN:VEVENT
UID:69eb1045b42b3@seudominio.com
DTSTAMP:20260424T064005Z
DTSTART;TZID=America/Sao_Paulo:20260509T090000
DTEND;TZID=America/Sao_Paulo:20260509T120000
SUMMARY:1° Edição do Alumni Talks fortalece conexão entre ex-alunos da FECAP
LOCATION:Arena FECAP
DESCRIPTION:O Alumni Talks é uma iniciativa do Comitê Alumni Alvaristas criada para
 fortalecer a conexão entre ex-alunos da FECAP, promovendo um ambiente de
 networking qualificado, troca de experiências e atualização
 profissional. Com formato híbrido, o evento reúne Alvaristas que se
 destacam em suas áreas de atuação para compartilhar trajetórias,
 aprendizados e insights sobre o mercado, contribuindo para o
 desenvolvimento contínuo da comunidade.   A proposta central é estimular
 o senso de pertencimento e engajar a comunidade Alumni,  e a construção
 de uma rede ativa de relacionamento. Além disso, o encontro contribui para
 o fortalecimento da marca por meio da troca espontânea de experiências e
 conteúdos entre os participantes.  Data: 09 de maio (sábado)
 Horário: 09h às 12h Local: Arena FECAP Formato: Híbrido (com
 transmissão via Zoom) Público: Comunidade Alumni Alvaristas  Vagas
 limitadas 
STATUS:CONFIRMED
TRANSP:OPAQUE
END:VEVENT
END:VCALENDAR
