BEGIN:VCALENDAR
VERSION:2.0
CALSCALE:GREGORIAN
METHOD:PUBLISH
PRODID:-//SeuSite//PT-BR
BEGIN:VEVENT
UID:69eb0f3964729@seudominio.com
DTSTAMP:20260424T063537Z
DTSTART;TZID=America/Sao_Paulo:20260613T083000
DTEND;TZID=America/Sao_Paulo:20260613T120000
SUMMARY:6° Edição do Alumni Day reúne comunidade Alvarista na FECAP
LOCATION:Auditório 131C
DESCRIPTION: O Alumni Day é um encontro semestral promovido pela FECAP que reúne
 ex-alunos de diferentes gerações para fortalecer vínculos com a
 instituição, estimular o networking e promover a troca de experiências
 profissionais e acadêmicas.  Em sua 6ª edição, o evento acontece no dia
 13 de junho de 2026 e reforça o compromisso de manter a comunidade Alumni
 ativa, conectada e inspirada, por meio de uma programação pensada para
 valorizar trajetórias, compartilhar conhecimento e celebrar histórias de
 sucesso.   Será um evento com palestras, depoimentos de ex-alunos do
 Programa de Mestrado, que compartilharão suas experiências e caminhos
 profissionais. A programação inclui ainda a entrega simbólica das
 carteirinhas Alumni, fortalecendo o sentimento de pertencimento à
 comunidade Alvarista.  Data: 13 de junho de 2026 (sábado) Horário: das
 08h30 às 12h Local: Auditório 131-C – Campus Liberdade  O evento é
 aberto a ex-alunos de todas as etapas da FECAP, Colégio, Graduação,
 Pós-Graduação e Mestrado.  Garanta sua participação e reencontre a
 comunidade Alvarista em um momento de conexão, aprendizado e inspiração.
 
STATUS:CONFIRMED
TRANSP:OPAQUE
END:VEVENT
END:VCALENDAR
